BEGIN:VCALENDAR
VERSION:2.0
PRODID:-//ChamberMaster//Event Calendar 2.0//EN
METHOD:PUBLISH
X-PUBLISHED-TTL:P3D
REFRESH-INTERVAL:P3D
CALSCALE:GREGORIAN
BEGIN:VEVENT
DTSTART:20160122T223000Z
DTEND:20160122T233000Z
X-MICROSOFT-CDO-ALLDAYEVENT:FALSE
SUMMARY:Stuffed Animal Sleepover
DESCRIPTION:Break out your favorite jammies and head to the library for a fun storytime and craft. Bring your favorite stuffed animal\, who will enjoy a very special sleepover at the library. Come back the next day to pick up your animal friend and see what they did all night at the library. Registration required. All ages welcome.
X-ALT-DESC;FMTTYPE=text/html:Break out your favorite jammies and head to the library for a fun storytime and craft. Bring your favorite stuffed animal\, who will enjoy a very special sleepover at the library. Come back the next day to pick up your animal friend and see what they did all night at the library. Registration required. All ages welcome.&nbsp\;
LOCATION:5521 Cahaba Valley Road\, Birmingham AL 35242
UID:e.145.8225
SEQUENCE:3
DTSTAMP:20260422T110507Z
URL:https://business.shelbychamber.org/events/details/stuffed-animal-sleepover-01-22-2016-8225
END:VEVENT

END:VCALENDAR
