BEGIN:VCALENDAR
VERSION:2.0
PRODID:-//ChamberMaster//Event Calendar 2.0//EN
METHOD:PUBLISH
X-PUBLISHED-TTL:P3D
REFRESH-INTERVAL:P3D
CALSCALE:GREGORIAN
BEGIN:VEVENT
DTSTART:20160624T210000Z
DTEND:20160624T230000Z
X-MICROSOFT-CDO-ALLDAYEVENT:FALSE
SUMMARY:Stuffed Animal Sleepover
DESCRIPTION:What adventures will your favorite friend have in the library? Drop off your stuffed animal between 4 - 6 on Friday\, then pick them up Saturday morning. Registration required.
X-ALT-DESC;FMTTYPE=text/html:<span style="font-family:calibri light\,sans-serif">What adventures will your favorite friend have in the library? Drop off your stuffed animal between 4 - 6 on Friday\, then pick them up Saturday morning. Registration required.</span>
LOCATION:North Shelby Library
UID:e.145.9539
SEQUENCE:3
DTSTAMP:20260422T043552Z
URL:https://business.shelbychamber.org/events/details/stuffed-animal-sleepover-06-24-2016-9539
END:VEVENT

END:VCALENDAR
