BEGIN:VCALENDAR
VERSION:2.0
PRODID:-//ChamberMaster//Event Calendar 2.0//EN
METHOD:PUBLISH
X-PUBLISHED-TTL:P3D
REFRESH-INTERVAL:P3D
CALSCALE:GREGORIAN
BEGIN:VEVENT
DTSTART:20110607T140000Z
DTEND:20110805T040000Z
X-MICROSOFT-CDO-ALLDAYEVENT:FALSE
SUMMARY:Summer Kid Fit Camp at Geaux Play Alabama
DESCRIPTION:Looking for a fun activity for your child to do this summer?\n\n\n\nSUMMER KID FIT CAMP: Geaux Play Sports Training & Fitness\n\n\n\nGeaux Play's mission is to promote and improve health and fitness to kids and adults\n\n    Did you know?\n\n     1 out of 3 kids are overweight or obese.\n\n     Kids need at least 60 minutes of physical activity each day\n\n     Early education helps with life style changes\n\n\n\nKid Fit Program design:\n\n     Activity Games -opportunity for your child to participate in a wide range of activities of all ability levels.\n\n     Bully Proof - designed to give kids confidence\, self esteem\, and knowledge to defend themselves against bullies.  \n\n     Fitness and resistant training gearing to maintain a healthy lifestyle\n\n     Nutrition for children and parents regarding healthy eating habits\n\n\n\nCamp Info:\n\nTuesday and Thursdays from 9:00 - 11:00 am\n\nCamp 1: June 7th   June 30th      Cost: $200.00\n\nCamp 2: July 12th   August 4th    Cost: $200.00\n\nCombo:  Camp 1 and 2:              Cost: $350.00\n\n\n\nLocation:\n\n301 Southgate Drive\n\nPelham\, AL 35124 (off of 119 behind O'Charley's and 2 Peso's)\n\n205-834-8996\n\n\n\n------------------------------------------------------------------------------------------------------------\n\n\n\nCOUPON\n\n\n\n$20.00 OFF FOR EARLY REGISTRATION.  SIGN UP BY MAY 25th\n\n\n\nTo register\, go to www.geauxplayalabama.com and click on camps to enroll today!
X-ALT-DESC;FMTTYPE=text/html:Looking for a fun activity for your child to do this summer?<br />\n<br />\nSUMMER KID FIT CAMP: Geaux Play Sports Training &amp\; Fitness<br />\n<br />\nGeaux Play&rsquo\;s mission is to promote and improve health and fitness to kids and adults<br />\n&nbsp\;&nbsp\;&nbsp\; Did you know?<br />\n&bull\;&nbsp\;&nbsp\; &nbsp\;1 out of 3 kids are overweight or obese.<br />\n&bull\;&nbsp\;&nbsp\; &nbsp\;Kids need at least 60 minutes of physical activity each day<br />\n&bull\;&nbsp\;&nbsp\; &nbsp\;Early education helps with life style changes<br />\n<br />\nKid Fit Program design:<br />\n&bull\;&nbsp\;&nbsp\; &nbsp\;Activity Games -opportunity for your child to participate in a wide range of activities of all ability levels.<br />\n&bull\;&nbsp\;&nbsp\; &nbsp\;Bully Proof - designed to give kids confidence\, self esteem\, and knowledge to defend themselves against bullies. &nbsp\;<br />\n&bull\;&nbsp\;&nbsp\; &nbsp\;Fitness and resistant training gearing to maintain a healthy lifestyle<br />\n&bull\;&nbsp\;&nbsp\; &nbsp\;Nutrition for children and parents regarding healthy eating habits<br />\n<br />\nCamp Info:<br />\nTuesday and Thursdays from 9:00 - 11:00 am<br />\nCamp 1: June 7th &ndash\; June 30th&nbsp\;&nbsp\;&nbsp\;&nbsp\;&nbsp\; Cost: $200.00<br />\nCamp 2: July 12th &ndash\; August 4th&nbsp\;&nbsp\;&nbsp\; Cost: $200.00<br />\nCombo:&nbsp\; Camp 1 and 2:&nbsp\;&nbsp\;&nbsp\;&nbsp\;&nbsp\;&nbsp\;&nbsp\;&nbsp\;&nbsp\;&nbsp\;&nbsp\;&nbsp\;&nbsp\; Cost: $350.00<br />\n<br />\nLocation:<br />\n301 Southgate Drive<br />\nPelham\, AL 35124 (off of 119 behind O&rsquo\;Charley&rsquo\;s and 2 Peso&rsquo\;s)<br />\n205-834-8996<br />\n<br />\n------------------------------------------------------------------------------------------------------------<br />\n<br />\nCOUPON<br />\n<br />\n$20.00 OFF FOR EARLY REGISTRATION.&nbsp\; SIGN UP BY MAY 25th<br />\n<br />\nTo register\, go to www.geauxplayalabama.com and click on camps to enroll today!
LOCATION:301 Southgate Drive Pelham\, AL 35124 (off of 119 behind O'Charley's and 2 Peso's) 205-834-8996
UID:e.145.3395
SEQUENCE:3
DTSTAMP:20260425T215146Z
URL:https://business.shelbychamber.org/events/details/summer-kid-fit-camp-at-geaux-play-alabama-06-07-2011-3395
END:VEVENT

END:VCALENDAR
