BEGIN:VCALENDAR
VERSION:2.0
PRODID:-//ChamberMaster//Event Calendar 2.0//EN
METHOD:PUBLISH
X-PUBLISHED-TTL:P3D
REFRESH-INTERVAL:P3D
CALSCALE:GREGORIAN
BEGIN:VEVENT
DTSTART:20150801T140000Z
DTEND:20150801T200000Z
X-MICROSOFT-CDO-ALLDAYEVENT:FALSE
SUMMARY:Summer Lovin' Romance Conference Author Panel Discussions
DESCRIPTION:9:00am - 9:45am Morning Reception 10:00am - 11:00am - Group 1 - Becoming a Young Adult Author- Ingrid Seymour Location: Classroom - Bodice Ripping and Bra Burning: Finding Feminism in Romance Novels - Kimberly Lang Location: Conference Room - Finding Love While Dodging Bullets & Other Dangers: the Romantic Suspense novel - Dianna Love\, Gayle Wilson and Carla Swafford Location: Meeting Room 11:15am - 12:15pm - Group 2 - So You Want to Be a Romance Author? - Nancee Cain\, Carla Swafford and Kimberly Lang Location: Classroom - Evolution of the Romance Writer: Genre Shifting and Navigating the Changing Face of Publishing - Peggy Webb Location: Conference Room - The Appeal of the Alpha Male: Why Do Strong Intelligent Women Love Them? - Lexi George Location: Meeting Room 12:30pm - 1:15pm Lunch | Location: Meeting Room 1:30pm - 3:00pm Booksignings | Location: Meeting Room
X-ALT-DESC;FMTTYPE=text/html:9:00am - 9:45am Morning Reception 10:00am - 11:00am - Group 1 - Becoming a Young Adult Author- Ingrid Seymour Location: Classroom - Bodice Ripping and Bra Burning: Finding Feminism in Romance Novels - Kimberly Lang Location: Conference Room - Finding Love While Dodging Bullets &amp\; Other Dangers: the Romantic Suspense novel - Dianna Love\, Gayle Wilson and Carla Swafford Location: Meeting Room 11:15am - 12:15pm - Group 2 - So You Want to Be a Romance Author? - Nancee Cain\, Carla Swafford and Kimberly Lang Location: Classroom - Evolution of the Romance Writer: Genre Shifting and Navigating the Changing Face of Publishing - Peggy Webb Location: Conference Room - The Appeal of the Alpha Male: Why Do Strong Intelligent Women Love Them? - Lexi George Location: Meeting Room 12:30pm - 1:15pm Lunch | Location: Meeting Room 1:30pm - 3:00pm Booksignings | Location: Meeting Room
LOCATION:North Shelby Library
UID:e.145.7670
SEQUENCE:3
DTSTAMP:20260422T195533Z
URL:https://business.shelbychamber.org/events/details/summer-lovin-romance-conference-author-panel-discussions-08-01-2015-7670
END:VEVENT

END:VCALENDAR
