BEGIN:VCALENDAR
VERSION:2.0
PRODID:-//ChamberMaster//Event Calendar 2.0//EN
METHOD:PUBLISH
X-PUBLISHED-TTL:P3D
REFRESH-INTERVAL:P3D
CALSCALE:GREGORIAN
BEGIN:VEVENT
DTSTART:20150731T233000Z
DTEND:20150801T030000Z
X-MICROSOFT-CDO-ALLDAYEVENT:FALSE
SUMMARY:Summer Lovin' Romance Conference Dinner & Book Signing
DESCRIPTION:Dianna Love\, New York Times best selling author\, will be the keynote speaker at this romance reader and writers' dinner on Friday\, July 31st\, 2015 at the North Shelby Library. Romance readers will get the chance to have dinner and chat with romance authors and other readers. Readers will also have an opportunity to win door prizes! Book signings will be after the dinner. Authors in attendance will be Dianna Love\, Nancee Cain\, Carla Swafford\, Gayle Wilson\, Lexi George\, Ingrid Seymour\, Kimberly Lang\, Peggy Webb\, Larynn Ford and more to be announced.
X-ALT-DESC;FMTTYPE=text/html:Dianna Love\, New York Times best selling author\, will be the keynote speaker at this romance reader and writers&#39\; dinner on Friday\, July 31st\, 2015 at the North Shelby Library. Romance readers will get the chance to have dinner and chat with romance authors and other readers. Readers will also have an opportunity to win door prizes! Book signings will be after the dinner. Authors in attendance will be Dianna Love\, Nancee Cain\, Carla Swafford\, Gayle Wilson\, Lexi George\, Ingrid Seymour\, Kimberly Lang\, Peggy Webb\, Larynn Ford and more to be announced.
LOCATION:North Shelby Library
UID:e.145.7669
SEQUENCE:3
DTSTAMP:20260422T195859Z
URL:https://business.shelbychamber.org/events/details/summer-lovin-romance-conference-dinner-book-signing-07-31-2015-7669
END:VEVENT

END:VCALENDAR
