BEGIN:VCALENDAR
VERSION:2.0
PRODID:-//ChamberMaster//Event Calendar 2.0//EN
METHOD:PUBLISH
X-PUBLISHED-TTL:P3D
REFRESH-INTERVAL:P3D
CALSCALE:GREGORIAN
BEGIN:VEVENT
DTSTART:20140529T230000Z
DTEND:20140530T020000Z
X-MICROSOFT-CDO-ALLDAYEVENT:FALSE
SUMMARY:Summer of Pinterest - American Flag Star Door Hanger
DESCRIPTION:Summer is a time for relaxing and gathering with friends!  Join Ali Conn Payne and your fellow Pinterest friends to create projects that are functional and fabulous!
X-ALT-DESC;FMTTYPE=text/html:Summer is a time for relaxing and gathering with friends!&nbsp\; Join Ali Conn Payne and your fellow Pinterest friends to create projects that are functional and fabulous!
LOCATION:104 Mildred St. Columbiana Al. 35051
UID:e.145.5503
SEQUENCE:3
DTSTAMP:20260423T165707Z
URL:https://business.shelbychamber.org/events/details/summer-of-pinterest-american-flag-star-door-hanger-05-29-2014-5503
END:VEVENT

END:VCALENDAR
