BEGIN:VCALENDAR
VERSION:2.0
PRODID:-//ChamberMaster//Event Calendar 2.0//EN
METHOD:PUBLISH
X-PUBLISHED-TTL:P3D
REFRESH-INTERVAL:P3D
CALSCALE:GREGORIAN
BEGIN:VEVENT
DTSTART:20140814T230000Z
DTEND:20140815T020000Z
X-MICROSOFT-CDO-ALLDAYEVENT:FALSE
SUMMARY:Summer of Pinterest Picture Frames
DESCRIPTION:
X-ALT-DESC;FMTTYPE=text/html:
LOCATION:104 Mildred St. Columbiana Al\, 35051
UID:e.145.5507
SEQUENCE:3
DTSTAMP:20260423T120506Z
URL:https://business.shelbychamber.org/events/details/summer-of-pinterest-picture-frames-08-14-2014-5507
END:VEVENT

END:VCALENDAR
