BEGIN:VCALENDAR
VERSION:2.0
PRODID:-//ChamberMaster//Event Calendar 2.0//EN
METHOD:PUBLISH
X-PUBLISHED-TTL:P3D
REFRESH-INTERVAL:P3D
CALSCALE:GREGORIAN
BEGIN:VEVENT
DTSTART:20140710T230000Z
DTEND:20140711T020000Z
X-MICROSOFT-CDO-ALLDAYEVENT:FALSE
SUMMARY:Summer of Pinterest Sweet Home Alabama
DESCRIPTION:
X-ALT-DESC;FMTTYPE=text/html:
LOCATION:104 Mildred St. Columbaina Al\, 35051
UID:e.145.5506
SEQUENCE:3
DTSTAMP:20260423T151741Z
URL:https://business.shelbychamber.org/events/details/summer-of-pinterest-sweet-home-alabama-07-10-2014-5506
END:VEVENT

END:VCALENDAR
