BEGIN:VCALENDAR
VERSION:2.0
PRODID:-//ChamberMaster//Event Calendar 2.0//EN
METHOD:PUBLISH
X-PUBLISHED-TTL:P3D
REFRESH-INTERVAL:P3D
CALSCALE:GREGORIAN
BEGIN:VEVENT
DTSTART:20140619T230000Z
DTEND:20140620T020000Z
X-MICROSOFT-CDO-ALLDAYEVENT:FALSE
SUMMARY:Summer of Pinterest "You are my Sunshine"
DESCRIPTION:
X-ALT-DESC;FMTTYPE=text/html:
LOCATION:104 Mildred St. Columbiana Al\, 35051
UID:e.145.5505
SEQUENCE:3
DTSTAMP:20260423T151740Z
URL:https://business.shelbychamber.org/events/details/summer-of-pinterest-you-are-my-sunshine-06-19-2014-5505
END:VEVENT

END:VCALENDAR
