BEGIN:VCALENDAR
VERSION:2.0
PRODID:-//ChamberMaster//Event Calendar 2.0//EN
METHOD:PUBLISH
X-PUBLISHED-TTL:P3D
REFRESH-INTERVAL:P3D
CALSCALE:GREGORIAN
BEGIN:VEVENT
DTSTART:20160727T153000Z
DTEND:20160727T163000Z
X-MICROSOFT-CDO-ALLDAYEVENT:FALSE
SUMMARY:Summer Reading End Party with Mr. Mac
DESCRIPTION:Join us for fun and refreshments to end our Summer Reading Program. All ages welcome. No registration required. Sponsored by Indian Springs Village.
X-ALT-DESC;FMTTYPE=text/html:Join us for fun and refreshments to end our Summer Reading Program. All ages welcome. No registration required. Sponsored by Indian Springs Village.&nbsp\;
LOCATION:North Shelby Library 5521 Cahaba Valley Road Birmingham\, AL 35242
UID:e.145.9602
SEQUENCE:3
DTSTAMP:20260422T011743Z
URL:https://business.shelbychamber.org/events/details/summer-reading-end-party-with-mr-mac-07-27-2016-9602
END:VEVENT

END:VCALENDAR
