BEGIN:VCALENDAR
VERSION:2.0
PRODID:-//ChamberMaster//Event Calendar 2.0//EN
METHOD:PUBLISH
X-PUBLISHED-TTL:P3D
REFRESH-INTERVAL:P3D
CALSCALE:GREGORIAN
BEGIN:VEVENT
DTSTART:20160723T153000Z
DTEND:20160723T173000Z
X-MICROSOFT-CDO-ALLDAYEVENT:FALSE
SUMMARY:Summer Reading End Party with Starshine Faces
DESCRIPTION:Watch as your favorite stories come to life through face painting. Some faces will be painted during the show\, then face painters will paint faces for 1 hour after the show. All ages. No registration. Sponsored by Indian Springs Village.
X-ALT-DESC;FMTTYPE=text/html:Watch as your favorite stories come to life through face painting. Some faces will be painted during the show\, then face painters will paint faces for 1 hour after the show. All ages. No registration. Sponsored by Indian Springs Village.&nbsp\;
LOCATION:North Shelby Library 5521 Cahaba Valley Road Birmingham\, AL 35242
UID:e.145.9601
SEQUENCE:3
DTSTAMP:20260422T011900Z
URL:https://business.shelbychamber.org/events/details/summer-reading-end-party-with-starshine-faces-07-23-2016-9601
END:VEVENT

END:VCALENDAR
