BEGIN:VCALENDAR
VERSION:2.0
PRODID:-//ChamberMaster//Event Calendar 2.0//EN
METHOD:PUBLISH
X-PUBLISHED-TTL:P3D
REFRESH-INTERVAL:P3D
CALSCALE:GREGORIAN
BEGIN:VEVENT
DTSTART:20150530T150000Z
DTEND:20150530T180000Z
X-MICROSOFT-CDO-ALLDAYEVENT:FALSE
SUMMARY:Summer Reading Kickoff
DESCRIPTION:Inflatables\, Refreshments\, Games\, Face Painting\, & MORE!! All Ages Welcome. No Registration Required.
X-ALT-DESC;FMTTYPE=text/html:Inflatables\, Refreshments\, Games\, Face Painting\, &amp\; MORE!! All Ages Welcome. No Registration Required.
LOCATION:North Shelby Library
UID:e.145.7644
SEQUENCE:3
DTSTAMP:20260422T225909Z
URL:https://business.shelbychamber.org/events/details/summer-reading-kickoff-05-30-2015-7644
END:VEVENT

END:VCALENDAR
