BEGIN:VCALENDAR
VERSION:2.0
PRODID:-//ChamberMaster//Event Calendar 2.0//EN
METHOD:PUBLISH
X-PUBLISHED-TTL:P3D
REFRESH-INTERVAL:P3D
CALSCALE:GREGORIAN
BEGIN:VEVENT
DTSTART:20160604T150000Z
DTEND:20160604T180000Z
X-MICROSOFT-CDO-ALLDAYEVENT:FALSE
SUMMARY:Summer Reading Kickoff
DESCRIPTION:Inflatables\, Refreshments\, Games\, Face Painting\, & MORE!! All Ages Welcome. No Registration Required.
X-ALT-DESC;FMTTYPE=text/html:<span style="font-family:calibri light\,sans-serif">Inflatables\, Refreshments\, Games\, Face Painting\, &amp\; MORE!! All Ages Welcome. No Registration Required.</span>
LOCATION:North Shelby Library
UID:e.145.9530
SEQUENCE:3
DTSTAMP:20260422T025922Z
URL:https://business.shelbychamber.org/events/details/summer-reading-kickoff-06-04-2016-9530
END:VEVENT

END:VCALENDAR
