BEGIN:VCALENDAR
VERSION:2.0
PRODID:-//ChamberMaster//Event Calendar 2.0//EN
METHOD:PUBLISH
X-PUBLISHED-TTL:P3D
REFRESH-INTERVAL:P3D
CALSCALE:GREGORIAN
BEGIN:VEVENT
DTSTART:20110418T040000Z
DTEND:20110417T183000Z
X-MICROSOFT-CDO-ALLDAYEVENT:FALSE
SUMMARY:Sunday Buffet
DESCRIPTION:Traditional Homestyle Favorites at a great low price.
X-ALT-DESC;FMTTYPE=text/html:Traditional Homestyle Favorites at a great low price.
LOCATION:
UID:e.145.3382
SEQUENCE:3
DTSTAMP:20260426T034142Z
URL:https://business.shelbychamber.org/events/details/sunday-buffet-04-17-2011-3382
END:VEVENT

END:VCALENDAR
