BEGIN:VCALENDAR
VERSION:2.0
PRODID:-//ChamberMaster//Event Calendar 2.0//EN
METHOD:PUBLISH
X-PUBLISHED-TTL:P3D
REFRESH-INTERVAL:P3D
CALSCALE:GREGORIAN
BEGIN:VEVENT
DTSTART:20111220T170000Z
DTEND:20111220T170000Z
X-MICROSOFT-CDO-ALLDAYEVENT:FALSE
SUMMARY:Susan Schein & Mastermind Business Network Event
DESCRIPTION:Come take your name and business to a new level. The Mastermind Business Network and Susan Schein is a no cost event. It all starts at 11am and you are cordinally invited.  Remember Susan Schein is home of the 19.95 oil change so drop off your vehicle before the meeting and your car will be ready for you.  Just tell them you are with the group. \n\n\n\nThank you Susan Schein and Napa Auto Parts. Call Don Dunphy 205-475-1738
X-ALT-DESC;FMTTYPE=text/html:Come take your name and business to a new level. The Mastermind Business Network and Susan Schein is a no cost event. It all starts at 11am and you are cordinally invited.&nbsp\; Remember Susan Schein is home of the 19.95 oil change so drop off your vehicle before the meeting and your car will be ready for you.&nbsp\; Just tell them you are with the group.&nbsp\;<br />\n<br />\nThank you Susan Schein and Napa Auto Parts. Call Don Dunphy 205-475-1738 
LOCATION:Susan Schein Automotive Highway 31 Pelham\, AL 35124
UID:e.145.3432
SEQUENCE:3
DTSTAMP:20260425T153003Z
URL:https://business.shelbychamber.org/events/details/susan-schein-mastermind-business-network-event-12-20-2011-3432
END:VEVENT

END:VCALENDAR
