BEGIN:VCALENDAR
VERSION:2.0
PRODID:-//ChamberMaster//Event Calendar 2.0//EN
METHOD:PUBLISH
X-PUBLISHED-TTL:P3D
REFRESH-INTERVAL:P3D
CALSCALE:GREGORIAN
BEGIN:VEVENT
DTSTART:20110512T163000Z
DTEND:20110512T230000Z
X-MICROSOFT-CDO-ALLDAYEVENT:FALSE
SUMMARY:Swinging Fore Achievement Golf Tournament to Benefit The Arc of Shelby
DESCRIPTION:The Arc of Shelby County is excited to announce our fifth annual Swinging Fore Achievement Golf Tournament at Timberline Golf Course.  \n\n\n\nThe Swinging Fore Achievement Golf Tournament will be held on Thursday\, May 12th at Timberline Golf Course\, Calera\, AL with registration beginning at 11:45am.  During this premier event\, golfers will enjoy a best-ball scramble.  Each golfer will experience a fabulous afternoon of golf\, testimonies by families with disabilities\, a wonderful lunch provided by Texas Roadhouse\, a silent auction and much much more!\n\n\n\nSwinging Fore Achievement Golf Tournament will help to raise funds for supporting programs of The Arc of Shelby County\, a 501 (c) (3) non-profit.  Here at The Arc of Shelby\, we are dedicated to serving children and adults with developmental and intellectual disabilities through such programs as Kids First\, Right Jobs\, Community Living\, and New Visions.  The Arc of Shelby County?s purpose is to provide programs and services that empowers individuals with developmental disabilities and their families throughout their lifespan to live happy\, successful and productive lives. \n\n\n\nPlease consider supporting our efforts by making a tax-deductible sponsorship\, donation and or participating in this premiere golf tournament.  We hope you will be a part of an unbelievable afternoon.\n\n\n\nAgain thank you for helping to Achieve with us!
X-ALT-DESC;FMTTYPE=text/html:The Arc of Shelby County is excited to announce our fifth annual Swinging Fore Achievement Golf Tournament at Timberline Golf Course.  \n<br>\n<br>The Swinging Fore Achievement Golf Tournament will be held on Thursday\, May 12th at Timberline Golf Course\, Calera\, AL with registration beginning at 11:45am.  During this premier event\, golfers will enjoy a best-ball scramble.  Each golfer will experience a fabulous afternoon of golf\, testimonies by families with disabilities\, a wonderful lunch provided by Texas Roadhouse\, a silent auction and much much more!\n<br>\n<br>Swinging Fore Achievement Golf Tournament will help to raise funds for supporting programs of The Arc of Shelby County\, a 501 (c) (3) non-profit.  Here at The Arc of Shelby\, we are dedicated to serving children and adults with developmental and intellectual disabilities through such programs as Kids First\, Right Jobs\, Community Living\, and New Visions.  The Arc of Shelby County?s purpose is to provide programs and services that empowers individuals with developmental disabilities and their families throughout their lifespan to live happy\, successful and productive lives. \n<br>\n<br>Please consider supporting our efforts by making a tax-deductible sponsorship\, donation and or participating in this premiere golf tournament.  We hope you will be a part of an unbelievable afternoon.\n<br>\n<br>Again thank you for helping to Achieve with us!  \n<br>\n<br>
LOCATION:Timberline Golf Course\, Calera\, AL
UID:e.145.3357
SEQUENCE:3
DTSTAMP:20260426T022923Z
URL:https://business.shelbychamber.org/events/details/swinging-fore-achievement-golf-tournament-to-benefit-the-arc-of-shelby-05-12-2011-3357
END:VEVENT

END:VCALENDAR
