BEGIN:VCALENDAR
VERSION:2.0
PRODID:-//ChamberMaster//Event Calendar 2.0//EN
METHOD:PUBLISH
X-PUBLISHED-TTL:P3D
REFRESH-INTERVAL:P3D
CALSCALE:GREGORIAN
BEGIN:VEVENT
DTSTART:20170226T200000Z
DTEND:20170226T223000Z
X-MICROSOFT-CDO-ALLDAYEVENT:FALSE
SUMMARY:Sylacauga Community Playhouse Production: You're a Good Man Charlie Brown
DESCRIPTION:Sylacauga Community Playhouse will bring the familiar characters of the "Peanuts" gang to life on stage in an exciting new production You're A Good Man\, Charlie Man\, a musical written by Clark Gesner and based on the comic strip "Peanuts" by Charles M. Schulz. Spend a couple of days in the lives of Charlie Brown and his pint-sized philosopher friends   from bright\, uncertain morning to starlit\, hopeful evening   and all the lonely brown-bag lunches\, kite flying failures\, book reports\, glee club rehearsals\, and suppertimes in between. Audiences of all ages will learn the "Happiness is" the simple joys of You're a Good Man\, Charlie Brown. You're A Good Man\, Charlie Brown\, Based on The Comic Strip "Peanuts" by Charles M. Schulz. Book\, Music and Lyrics by Clark Gesner. Additional dialogue by Michael Mayer. Additional music by Andrew Lippa. Original direction for this version of "You're a Good Man\, Charlie Brown" by Michael Mayer. Originally produced in New York by Arthur Whitelaw and Gene Persson. You're A Good Man\, Charlie Brown is presented by arrangement with TAMS-WITMARK MUSIC LIBRARY\, INC.\, 580 Lexington Avenue\, New York\, New York 10022.
X-ALT-DESC;FMTTYPE=text/html:Sylacauga Community Playhouse will bring the familiar characters of the &ldquo\;Peanuts&rdquo\; gang to life on stage in an exciting new production You&rsquo\;re A Good Man\, Charlie Man\, a musical written by Clark Gesner and based on the comic strip &ldquo\;Peanuts&rdquo\; by Charles M. Schulz. Spend a couple of days in the lives of Charlie Brown and his pint-sized philosopher friends &ndash\; from bright\, uncertain morning to starlit\, hopeful evening &ndash\; and all the lonely brown-bag lunches\, kite flying failures\, book reports\, glee club rehearsals\, and suppertimes in between. Audiences of all ages will learn the &ldquo\;Happiness is&rdquo\; the simple joys of You&rsquo\;re a Good Man\, Charlie Brown. You&rsquo\;re A Good Man\, Charlie Brown\, Based on The Comic Strip &ldquo\;Peanuts&rdquo\; by Charles M. Schulz. Book\, Music and Lyrics by Clark Gesner. Additional dialogue by Michael Mayer. Additional music by Andrew Lippa. Original direction for this version of &ldquo\;You&rsquo\;re a Good Man\, Charlie Brown&rdquo\; by Michael Mayer. Originally produced in New York by Arthur Whitelaw and Gene Persson. You&rsquo\;re A Good Man\, Charlie Brown is presented by arrangement with TAMS-WITMARK MUSIC LIBRARY\, INC.\, 580 Lexington Avenue\, New York\, New York 10022.
LOCATION:701 N Broadway Ave\, Sylacauga\, AL 35150
UID:e.145.10354
SEQUENCE:3
DTSTAMP:20260421T121756Z
URL:https://business.shelbychamber.org/events/details/sylacauga-community-playhouse-production-you-re-a-good-man-charlie-brown-02-26-2017-10354
END:VEVENT

END:VCALENDAR
