BEGIN:VCALENDAR
VERSION:2.0
PRODID:-//ChamberMaster//Event Calendar 2.0//EN
METHOD:PUBLISH
X-PUBLISHED-TTL:P3D
REFRESH-INTERVAL:P3D
CALSCALE:GREGORIAN
BEGIN:VEVENT
DTSTART:20121019T010000Z
DTEND:20121110T180000Z
X-MICROSOFT-CDO-ALLDAYEVENT:FALSE
SUMMARY:Sylvia
DESCRIPTION:"What happens when "the other woman" in a marriage is the dog?" "Gurney's mad comedy is the most endearing good time to trot down the pike in many a moon." "Howlingly funny" BackStage\n\nMature Language and Themes!
X-ALT-DESC;FMTTYPE=text/html:&quot\;What happens when &ldquo\;the other woman&rdquo\; in a marriage is the dog?&rdquo\; &quot\;Gurney&#39\;s mad comedy is the most endearing good time to trot down the pike in many a moon.&rdquo\; &ldquo\;Howlingly funny&rdquo\;&hellip\;BackStage<br />\nMature Language and Themes! 
LOCATION:South City Theatre\, 3640 Hwy 26\, Alabaster\, AL 35007
UID:e.145.4386
SEQUENCE:3
DTSTAMP:20260424T215147Z
URL:https://business.shelbychamber.org/events/details/sylvia-10-18-2012-4386
END:VEVENT

END:VCALENDAR
