BEGIN:VCALENDAR
VERSION:2.0
PRODID:-//ChamberMaster//Event Calendar 2.0//EN
METHOD:PUBLISH
X-PUBLISHED-TTL:P3D
REFRESH-INTERVAL:P3D
CALSCALE:GREGORIAN
BEGIN:VEVENT
DTSTART:20140502T233000Z
DTEND:20140503T033000Z
X-MICROSOFT-CDO-ALLDAYEVENT:FALSE
SUMMARY:Tails in the Trails
DESCRIPTION:Enjoy live music\, appetizers\, cocktails and animal encounters at the Birmingham Zoo Junior Board's fifth annual event. Buy your ticket to support the Zoo and enjoy an evening full of entertainment in the Junior League of Birmingham - Hugh Kaul Children's Zoo!
X-ALT-DESC;FMTTYPE=text/html:Enjoy live music\, appetizers\, cocktails and animal encounters at the Birmingham Zoo Junior Board&#39\;s fifth annual event. Buy your ticket to support the Zoo and enjoy an evening full of entertainment in the Junior League of Birmingham - Hugh Kaul Children&#39\;s Zoo!
LOCATION:The Birmingham Zoo
UID:e.145.5080
SEQUENCE:3
DTSTAMP:20260423T165055Z
URL:https://business.shelbychamber.org/events/details/tails-in-the-trails-05-02-2014-5080
END:VEVENT

END:VCALENDAR
