BEGIN:VCALENDAR
VERSION:2.0
PRODID:-//ChamberMaster//Event Calendar 2.0//EN
METHOD:PUBLISH
X-PUBLISHED-TTL:P3D
REFRESH-INTERVAL:P3D
CALSCALE:GREGORIAN
BEGIN:VEVENT
DTSTART;VALUE=DATE:20160206
DTEND;VALUE=DATE:20160207
TRANSP:TRANSPARENT
X-MICROSOFT-CDO-ALLDAYEVENT:TRUE
SUMMARY:Take Your Child to the Library Day
DESCRIPTION:Head to the library for snacks and fun activities. All ages with parent help. Registration is not required but supplies are limited.
X-ALT-DESC;FMTTYPE=text/html:<span style="font-family:calibri light\,sans-serif">Head to the library for snacks and fun activities. <u>All ages with parent help</u>. Registration is not required but supplies are limited.&nbsp\;</span>
LOCATION:North Shelby Library\, 5521 Cahaba Valley Road\, Birmingham AL 35242
UID:e.145.8266
SEQUENCE:3
DTSTAMP:20260422T093229Z
URL:https://business.shelbychamber.org/events/details/take-your-child-to-the-library-day-02-06-2016-8266
END:VEVENT

END:VCALENDAR
