BEGIN:VCALENDAR
VERSION:2.0
PRODID:-//ChamberMaster//Event Calendar 2.0//EN
METHOD:PUBLISH
X-PUBLISHED-TTL:P3D
REFRESH-INTERVAL:P3D
CALSCALE:GREGORIAN
BEGIN:VEVENT
DTSTART;VALUE=DATE:20130606
DTEND;VALUE=DATE:20130607
TRANSP:TRANSPARENT
X-MICROSOFT-CDO-ALLDAYEVENT:TRUE
SUMMARY:Ted Gilmer Relay For Life Golf Tournament
DESCRIPTION:
X-ALT-DESC;FMTTYPE=text/html:
LOCATION:Altadena Country Club
UID:e.145.4630
SEQUENCE:3
DTSTAMP:20260424T102742Z
URL:https://business.shelbychamber.org/events/details/ted-gilmer-relay-for-life-golf-tournament-06-06-2013-4630
END:VEVENT

END:VCALENDAR
