BEGIN:VCALENDAR
VERSION:2.0
PRODID:-//ChamberMaster//Event Calendar 2.0//EN
METHOD:PUBLISH
X-PUBLISHED-TTL:P3D
REFRESH-INTERVAL:P3D
CALSCALE:GREGORIAN
BEGIN:VEVENT
DTSTART;VALUE=DATE:20110609
DTEND;VALUE=DATE:20110701
TRANSP:TRANSPARENT
X-MICROSOFT-CDO-ALLDAYEVENT:TRUE
SUMMARY:TELL YOUR STORY: A Creative Writing Workshop
DESCRIPTION:Be guided on finding their voice\n\nLearn to create characters and plots\n\nPractice technical writing skills
X-ALT-DESC;FMTTYPE=text/html:Be guided on finding their voice\n<br>Learn to create characters and plots\n<br>Practice technical writing skills
LOCATION:Shelby County Arts Council Studio- 104 Mildred Street\, Columbiana\, AL 35051
UID:e.145.3298
SEQUENCE:3
DTSTAMP:20260426T005513Z
URL:https://business.shelbychamber.org/events/details/tell-your-story-a-creative-writing-workshop-06-09-2011-3298
END:VEVENT

END:VCALENDAR
