BEGIN:VCALENDAR
VERSION:2.0
PRODID:-//ChamberMaster//Event Calendar 2.0//EN
METHOD:PUBLISH
X-PUBLISHED-TTL:P3D
REFRESH-INTERVAL:P3D
CALSCALE:GREGORIAN
BEGIN:VEVENT
DTSTART:20131115T220000Z
DTEND:20131115T220000Z
X-MICROSOFT-CDO-ALLDAYEVENT:FALSE
SUMMARY:Thanksgiving Craft
DESCRIPTION:Get ready for Thanksgiving Day with this whimsical turkey craft. Registration is required. All ages welcome.
X-ALT-DESC;FMTTYPE=text/html:Get ready for Thanksgiving Day with this whimsical turkey craft. Registration is required. All ages welcome.
LOCATION:North Shelby Library 5521 Cahaba Valley Rd. B'ham\, AL 35242
UID:e.145.4777
SEQUENCE:3
DTSTAMP:20260424T021045Z
URL:https://business.shelbychamber.org/events/details/thanksgiving-craft-11-15-2013-4777
END:VEVENT

END:VCALENDAR
