BEGIN:VCALENDAR
VERSION:2.0
PRODID:-//ChamberMaster//Event Calendar 2.0//EN
METHOD:PUBLISH
X-PUBLISHED-TTL:P3D
REFRESH-INTERVAL:P3D
CALSCALE:GREGORIAN
BEGIN:VEVENT
DTSTART:20170406T160000Z
DTEND:20170406T173000Z
X-MICROSOFT-CDO-ALLDAYEVENT:FALSE
SUMMARY:The Best Savings Advice You May Ever Get
DESCRIPTION:Did you know that your brain registers saving money as physical pain? No wonder saving money is so hard! Join us at the next Wisdom & Cents ladies only lunch event on Thursday\, April 6\, where Valerie will present\, "The Best Savings Advice You May Ever Get." You will leave with some simple\, easy tips for saving money. And feel free to bring a friend! For every guest you bring\, you will be entered into a drawing to receive a gift certificate to the Spa at Ross Bridge. For more information and to register\, please visit: http://snip.ly/c2927#https://youtu.be/cIuUOvkpJ-E
X-ALT-DESC;FMTTYPE=text/html:Did you know that your brain registers saving money as physical pain? No wonder saving money is so hard! Join us at the next Wisdom &amp\; Cents ladies only lunch event on Thursday\, April 6\, where Valerie will present\, &quot\;The Best Savings Advice You May Ever Get.&quot\; You will leave with some simple\, easy tips for saving money. And feel free to bring a friend! For every guest you bring\, you will be entered into a drawing to receive a gift certificate to the Spa at Ross Bridge. For more information and to register\, please visit: <a href="http://snip.ly/c2927#https://youtu.be/cIuUOvkpJ-E">http://snip.ly/c2927#https://youtu.be/cIuUOvkpJ-E</a>
LOCATION:Holiday inn Express & Suites Meeting Room 1000 Balmoral Drive Alabaster\, AL 35007
UID:e.145.10524
SEQUENCE:3
DTSTAMP:20260419T133833Z
URL:https://business.shelbychamber.org/events/details/the-best-savings-advice-you-may-ever-get-10524
END:VEVENT

END:VCALENDAR
