BEGIN:VCALENDAR
VERSION:2.0
PRODID:-//ChamberMaster//Event Calendar 2.0//EN
METHOD:PUBLISH
X-PUBLISHED-TTL:P3D
REFRESH-INTERVAL:P3D
CALSCALE:GREGORIAN
BEGIN:VEVENT
DTSTART:20131005T153000Z
DTEND:20131005T220000Z
X-MICROSOFT-CDO-ALLDAYEVENT:FALSE
SUMMARY:The Cuckoo's Nest Halloween Open House
DESCRIPTION:Looking for some entertainment this weekend?  Stop by The Cuckoo's Nest for some fun and spook-tacular refreshments!\n\n\n\nA beautiful silk pumpkin will be given away at 3:00pm!\n\n\n\nFeel free to invite your friends \;)\n\n\n\nWe look forward to seeing everyone!
X-ALT-DESC;FMTTYPE=text/html:Looking for some&nbsp\;entertainment this weekend?&nbsp\; Stop by The Cuckoo&#39\;s Nest for some fun and spook-tacular refreshments!<br />\n<br />\nA beautiful silk pumpkin will be given away at 3:00pm!<br />\n<br />\nFeel free to invite your friends \;)<br />\n<br />\nWe look forward to seeing everyone!
LOCATION:The Cuckoo's Nest 4222 Old Highway 280\, Westover\, AL 35185
UID:e.145.4744
SEQUENCE:3
DTSTAMP:20260424T033722Z
URL:https://business.shelbychamber.org/events/details/the-cuckoo-s-nest-halloween-open-house-10-05-2013-4744
END:VEVENT

END:VCALENDAR
