BEGIN:VCALENDAR
VERSION:2.0
PRODID:-//ChamberMaster//Event Calendar 2.0//EN
METHOD:PUBLISH
X-PUBLISHED-TTL:P3D
REFRESH-INTERVAL:P3D
CALSCALE:GREGORIAN
BEGIN:VEVENT
DTSTART:20140221T160000Z
DTEND:20140221T180000Z
X-MICROSOFT-CDO-ALLDAYEVENT:FALSE
SUMMARY:The FARM: Functional Athletic Rehabilitation & Medicine Ribbon Cutting Ceremony
DESCRIPTION:Please help The FARM celebrate its opening & its introduction to Shelby County! The Ribbon Cutting ceremony will begin at 10:00 am. Stop on by to meet the doctors\, Drs. Beau Beard & Sloan Burdick. Breakfast finger foods\, coffee and juice will be provided by Radical Creations Catering.
X-ALT-DESC;FMTTYPE=text/html:Please help The FARM celebrate its opening &amp\; its introduction to Shelby County! The Ribbon Cutting ceremony will begin at 10:00 am. Stop on by to meet the doctors\, Drs. Beau Beard &amp\; Sloan Burdick. Breakfast finger foods\, coffee and juice will be provided by Radical Creations Catering. 
LOCATION:The FARM: Functional Athletic Rehabilitation & Medicine 13521 Old Hwy. 280\, Suite #125 Birmingham\, AL 35242 ***In the Narrows\, behind Brookwood Primary Care (GPS is sometimes incorrect\, give us a call if you need specific directions!!)
UID:e.145.5071
SEQUENCE:3
DTSTAMP:20260423T213446Z
URL:https://business.shelbychamber.org/events/details/the-farm-functional-athletic-rehabilitation-medicine-ribbon-cutting-ceremony-02-21-2014-5071
END:VEVENT

END:VCALENDAR
