BEGIN:VCALENDAR
VERSION:2.0
PRODID:-//ChamberMaster//Event Calendar 2.0//EN
METHOD:PUBLISH
X-PUBLISHED-TTL:P3D
REFRESH-INTERVAL:P3D
CALSCALE:GREGORIAN
BEGIN:VEVENT
DTSTART:20130216T160000Z
DTEND:20130217T000000Z
X-MICROSOFT-CDO-ALLDAYEVENT:FALSE
SUMMARY:The Fifth Annual Columbiana Cowboy Day
DESCRIPTION:The Fifth Annual Columbiana Cowboy Day\n\n\n\nCLICK HERE FOR A PRINTABLE PDF FLIER!\n\n\n\nParade and Cowboy Demonstrations\n\nFebruary 16\, 2013\n\nMain Street - Columbiana\n\n\n\nEvent starts at 10:00AM\n\n\n\nParade at 1:00PM\n\n\n\nLive Music\n\n\n\nRoping\n\n\n\nFarriers\n\n\n\nBlacksmiths\n\n\n\nChili Cook-off ... and much more!!!\n\n\n\nCattleman's Rodeo -- Friday & Saturday at the Exhibition Center\, Columbiana\, AL\n\n\n\nSponsored by Shelby County Cattleman's Association & the City of Columbiana
X-ALT-DESC;FMTTYPE=text/html:The Fifth Annual Columbiana Cowboy Day<br />\n<br />\n<a href="http://cloud.chambermaster.com/userfiles/UserFiles/chambers/145/File/Community%20Events/CityofColumbiana_CowboyDay_2013.pdf">CLICK HERE FOR A PRINTABLE PDF FLIER!</a><br />\n<br />\nParade and Cowboy Demonstrations<br />\nFebruary 16\, 2013<br />\nMain Street - Columbiana<br />\n<br />\nEvent starts at 10:00AM<br />\n<br />\nParade at 1:00PM<br />\n<br />\nLive Music<br />\n<br />\nRoping<br />\n<br />\nFarriers<br />\n<br />\nBlacksmiths<br />\n<br />\nChili Cook-off ... and much more!!!<br />\n<br />\nCattleman&#39\;s Rodeo -- Friday &amp\; Saturday at the Exhibition Center\, Columbiana\, AL<br />\n<br />\nSponsored by Shelby County Cattleman&#39\;s Association &amp\; the City of Columbiana
LOCATION:Parade and Cowboy Demonstrations February 16\, 2013 Main Street - Columbiana Cattleman's Rodeo -- Friday & Saturday at the Exhibition Center\, Columbiana\, AL Sponsored by Shelby County Cattleman's Association & the City of Columbiana
UID:e.145.4498
SEQUENCE:3
DTSTAMP:20260424T172127Z
URL:https://business.shelbychamber.org/events/details/the-fifth-annual-columbiana-cowboy-day-02-16-2013-4498
END:VEVENT

END:VCALENDAR
