BEGIN:VCALENDAR
VERSION:2.0
PRODID:-//ChamberMaster//Event Calendar 2.0//EN
METHOD:PUBLISH
X-PUBLISHED-TTL:P3D
REFRESH-INTERVAL:P3D
CALSCALE:GREGORIAN
BEGIN:VEVENT
DTSTART:20160828T183000Z
DTEND:20160828T213000Z
X-MICROSOFT-CDO-ALLDAYEVENT:FALSE
SUMMARY:The Hooteneers featuring The Special Pkg.
DESCRIPTION:A Sunday Matinee Show for the family. Down Home bluegrass\, folk and gospel by two regional favorites. Special Pkg with all girl Barber Shop Quartet Harmony and The Hooteneers with classic country pickin' and grinnin'. A beverage reception is included in your ticket price!
X-ALT-DESC;FMTTYPE=text/html:A Sunday Matinee Show for the family. Down Home bluegrass\, folk and gospel by two regional favorites. Special Pkg with all girl Barber Shop Quartet Harmony and The Hooteneers with classic country pickin&#39\; and grinnin&#39\;. A beverage reception is included in your ticket price!
LOCATION:Shelby County Arts Council
UID:e.145.9651
SEQUENCE:3
DTSTAMP:20260421T234520Z
URL:https://business.shelbychamber.org/events/details/the-hooteneers-featuring-the-special-pkg-08-28-2016-9651
END:VEVENT

END:VCALENDAR
