BEGIN:VCALENDAR
VERSION:2.0
PRODID:-//ChamberMaster//Event Calendar 2.0//EN
METHOD:PUBLISH
X-PUBLISHED-TTL:P3D
REFRESH-INTERVAL:P3D
CALSCALE:GREGORIAN
BEGIN:VEVENT
DTSTART:20150823T003000Z
DTEND:20150823T020000Z
X-MICROSOFT-CDO-ALLDAYEVENT:FALSE
SUMMARY:The Lady with All the Answers-The Ann Landers Story
DESCRIPTION:Shelby County Arts Council favorite Dolores Hydock returns to regale audiences with her unique storytelling and acting skills in The Lady with All the Answers-The Ann Landers Story. This one-woman play about the famous advice columnist shows us a glimpse into the life of a woman who shared her advice every morning to millions of readers. Join us for an entertaining evening with a multitalented storyteller. It will be an evening you won't want to miss!
X-ALT-DESC;FMTTYPE=text/html:<p>Shelby County Arts Council favorite Dolores Hydock returns to regale audiences with her unique storytelling and acting skills in&nbsp\;<em>The Lady with All the Answers-The Ann Landers Story</em>. This one-woman play about the famous advice columnist shows us a glimpse into the life of a woman who shared her&nbsp\;advice every morning to&nbsp\;millions of readers. Join us for an entertaining evening with a multitalented storyteller. It will be an evening you won&#39\;t want to miss!</p>\n
LOCATION:Shelby County Arts Council
UID:e.145.7720
SEQUENCE:3
DTSTAMP:20260422T183811Z
URL:https://business.shelbychamber.org/events/details/the-lady-with-all-the-answers-the-ann-landers-story-08-22-2015-7720
END:VEVENT

END:VCALENDAR
