BEGIN:VCALENDAR
VERSION:2.0
PRODID:-//ChamberMaster//Event Calendar 2.0//EN
METHOD:PUBLISH
X-PUBLISHED-TTL:P3D
REFRESH-INTERVAL:P3D
CALSCALE:GREGORIAN
BEGIN:VEVENT
DTSTART:20140302T010000Z
DTEND:20140302T030000Z
X-MICROSOFT-CDO-ALLDAYEVENT:FALSE
SUMMARY:The Legendary Dill Pickers "The Old Time Radio Show" Show
DESCRIPTION:You don't want to miss this down home style entertainment! The show includes music\, radio drama\, comedy\, news and radio commercials in the style of the pre-television radio shows of long ago. Featuring Theresa McKibben\, W. Scott Stewart\, Kneeland Wright\, Lesli Wright\, Stewart Jackson and Norton Dill. This show always sells out!
X-ALT-DESC;FMTTYPE=text/html:You don&#39\;t want to miss this down home style entertainment! The show includes music\, radio drama\, comedy\, news and radio commercials in the style of the pre-television radio shows of long ago. Featuring Theresa McKibben\, W. Scott Stewart\, Kneeland Wright\, Lesli Wright\, Stewart Jackson and Norton Dill. This show always sells out!
LOCATION:Shelby County Arts Council
UID:e.145.4916
SEQUENCE:3
DTSTAMP:20260423T201728Z
URL:https://business.shelbychamber.org/events/details/the-legendary-dill-pickers-the-old-time-radio-show-show-03-01-2014-4916
END:VEVENT

END:VCALENDAR
