BEGIN:VCALENDAR
VERSION:2.0
PRODID:-//ChamberMaster//Event Calendar 2.0//EN
METHOD:PUBLISH
X-PUBLISHED-TTL:P3D
REFRESH-INTERVAL:P3D
CALSCALE:GREGORIAN
BEGIN:VEVENT
DTSTART;VALUE=DATE:20160620
DTEND;VALUE=DATE:20160621
TRANSP:TRANSPARENT
X-MICROSOFT-CDO-ALLDAYEVENT:TRUE
SUMMARY:The Longest Day (Alzheimer's Association)
DESCRIPTION:The Longest Day is a team event to raise funds and awareness for the Alzheimer's Association . Held annually on the summer solstice\, the duration of this sunrise-to-sunset event symbolizes the challenging journey of those living with the disease and their caregivers. Teams are encouraged to create their own experience as they fundraise and participate in an activity they love to honor someone facing the disease.
X-ALT-DESC;FMTTYPE=text/html:The Longest Day is a team event to raise funds and awareness for the Alzheimer&#39\;s Association&reg\;. Held annually on the summer solstice\, the duration of this sunrise-to-sunset event symbolizes the challenging journey of those living with the disease and their caregivers. Teams are encouraged to create their own experience as they fundraise and participate in an activity they love to honor someone facing the disease.
LOCATION:Anywhere participants would like!
UID:e.145.9578
SEQUENCE:3
DTSTAMP:20260422T030551Z
URL:https://business.shelbychamber.org/events/details/the-longest-day-alzheimer-s-association-06-20-2016-9578
END:VEVENT

END:VCALENDAR
