BEGIN:VCALENDAR
VERSION:2.0
PRODID:-//ChamberMaster//Event Calendar 2.0//EN
METHOD:PUBLISH
X-PUBLISHED-TTL:P3D
REFRESH-INTERVAL:P3D
CALSCALE:GREGORIAN
BEGIN:VEVENT
DTSTART;VALUE=DATE:20130215
DTEND;VALUE=DATE:20130217
TRANSP:TRANSPARENT
X-MICROSOFT-CDO-ALLDAYEVENT:TRUE
SUMMARY:The Quilt Exhibit
DESCRIPTION:Join the Shelby County Arts Council to Celebrate Cowboy Day in Downtown Columbiana. \n\n\n\nArt representing the daily lives of cowboys and the Wild West will be on Exhibit.  We will feature hand-made quilts by local artists as well as Remington Bronze Statues. \n\n\n\nThe exhibit will be on display through February 28\, 2013.  Gallery hours are Monday\, Tuesday and Thursday from 10:00am-5:00 pm.  Special Hours Saturday\, February 16 and February 23 from 10:00 am - 3:00pm.
X-ALT-DESC;FMTTYPE=text/html:Join the Shelby County Arts Council to Celebrate Cowboy Day in Downtown Columbiana.&nbsp\;<br />\n<br />\nArt representing the daily lives of cowboys and the Wild West will be on Exhibit.&nbsp\; We will feature hand-made quilts by local artists as well as Remington Bronze Statues.&nbsp\;<br />\n<br />\nThe exhibit will be on display through February 28\, 2013.&nbsp\; Gallery hours are Monday\, Tuesday and Thursday from 10:00am-5:00 pm.&nbsp\; Special Hours Saturday\, February 16 and February 23 from 10:00 am - 3:00pm.<br />\n<br />\n<br />\n&nbsp\;
LOCATION:104 Mildred Street\, Columbiana\, AL 35051
UID:e.145.4414
SEQUENCE:3
DTSTAMP:20260424T171539Z
URL:https://business.shelbychamber.org/events/details/the-quilt-exhibit-02-15-2013-4414
END:VEVENT

END:VCALENDAR
