BEGIN:VCALENDAR
VERSION:2.0
PRODID:-//ChamberMaster//Event Calendar 2.0//EN
METHOD:PUBLISH
X-PUBLISHED-TTL:P3D
REFRESH-INTERVAL:P3D
CALSCALE:GREGORIAN
BEGIN:VEVENT
DTSTART:20160131T013000Z
DTEND:20160131T022500Z
X-MICROSOFT-CDO-ALLDAYEVENT:FALSE
SUMMARY:The Ray Reach Trio - An Evening of Jazz and American Standards
DESCRIPTION:Ray Reach\, recently found touring with the legendary James Taylor\, will take his musical cues from the Great American Standards Songbook.  He and his Trio will perform music declared the most important and influential American popular songs and jazz.  A great evening of traditional classics in an intimate venue. Showtime 7:30pm.
X-ALT-DESC;FMTTYPE=text/html:<a href="https://www.shelbycountyartscouncil.com/shop/969/Black+Box+Theatre+-+The+Ray+Reach+Trio.htm" style="color: rgb(43\, 83\, 118)\; font-family: Arial\; font-size: medium\; line-height: 18px\;">Ray Reach\,</a><span style="color:rgb(0\, 0\, 0)\; font-family:arial\; font-size:medium">&nbsp\;recently found touring with the legendary James Taylor\, will take his musical cues from the Great American Standards Songbook.&nbsp\; He and his Trio will perform music&nbsp\;</span><span style="color:rgb(0\, 0\, 0)\; font-family:arial\; font-size:medium">declared the most important and influential American popular songs and jazz.&nbsp\; A great evening of traditional classics in an intimate venue. Showtime 7:30pm. &nbsp\;&nbsp\;</span>
LOCATION:Shelby County Arts Council
UID:e.145.8254
SEQUENCE:3
DTSTAMP:20260422T111422Z
URL:https://business.shelbychamber.org/events/details/the-ray-reach-trio-an-evening-of-jazz-and-american-standards-01-30-2016-8254
END:VEVENT

END:VCALENDAR
