BEGIN:VCALENDAR
VERSION:2.0
PRODID:-//ChamberMaster//Event Calendar 2.0//EN
METHOD:PUBLISH
X-PUBLISHED-TTL:P3D
REFRESH-INTERVAL:P3D
CALSCALE:GREGORIAN
BEGIN:VEVENT
DTSTART:20140719T150000Z
DTEND:20140720T030000Z
X-MICROSOFT-CDO-ALLDAYEVENT:FALSE
SUMMARY:The Shelby County Shingdig
DESCRIPTION:The Shelby County Shindig is a joint fundraiser for the Shelby County Arts Council and the South Shelby Chamber of Commerce. Held in downtown Columbiana\, the event will feature 20 teams all vying for the title of Best Ribs in Shelby County. Teams will also compete for the top spot in Chef's Choice and Crowd Favorite. This is a non-sanctioned event and will go rain or shine! We will offer a public tasting (for Crowd Favorite voting)\, arts\, music and a children's play area. Thank you to our title sponsor : Deloach\, Barber and Caspers\, PC and other sponsors of this event.\n\nInterested Teams should contact Sandra Annonio at (205) 669-0044 or by email for more details on registration and team guidelines for the event. The first 20 teams registered will be accepted.
X-ALT-DESC;FMTTYPE=text/html:<p>The Shelby County Shindig is a joint fundraiser for the Shelby County Arts Council and the South Shelby Chamber of Commerce. Held in downtown Columbiana\, the event will feature 20 teams all vying for the title of Best Ribs in Shelby County. Teams will also compete for the top spot in Chef&rsquo\;s Choice and Crowd Favorite. This is a non-sanctioned event and will go rain or shine! We will offer a public tasting (for Crowd Favorite voting)\, arts\, music and a children&rsquo\;s play area. Thank you to our title sponsor : Deloach\, Barber and Caspers\, PC and other sponsors of this event.</p>\n\n<p>Interested Teams should contact Sandra Annonio at (205) 669-0044 or <a href="mailto:Sandra@shelbycountyartscouncil.com">by email</a> for more details on registration and team guidelines for the event. <span style="line-height: 1.6em\;">The first 20 teams registered will be accepted. </span></p>\n\n<p>&nbsp\;</p>\n&nbsp\;\n\n<div id="spotlight_bottom">\n<div id="spotlight_corner_bot_left">&nbsp\;</div>\n\n<div id="spotlight_corner_bot_right">&nbsp\;</div>\n</div>\n
LOCATION:104 Mildred St. Columbiana\, Al 35051
UID:e.145.5520
SEQUENCE:3
DTSTAMP:20260423T151238Z
URL:https://business.shelbychamber.org/events/details/the-shelby-county-shingdig-07-19-2014-5520
END:VEVENT

END:VCALENDAR
