BEGIN:VCALENDAR
VERSION:2.0
PRODID:-//ChamberMaster//Event Calendar 2.0//EN
METHOD:PUBLISH
X-PUBLISHED-TTL:P3D
REFRESH-INTERVAL:P3D
CALSCALE:GREGORIAN
BEGIN:VEVENT
DTSTART:20141007T230000Z
DTEND:20141008T010000Z
X-MICROSOFT-CDO-ALLDAYEVENT:FALSE
SUMMARY:The Taste of Pelham
DESCRIPTION:The Taste of Pelham presented by the Pelham Library Guild:  Tuesday\, October 7\, 2014 6:00-8:00pm at the Pelham Civic Complex and Ice Arena.\n\n\n\nAll proceeds to benefit the Pelham Library Building Fund\n\nTickets: $25.00 advance $30.00 door\n\nAdvance tickets also available from any Pelham Library Guild Member\, at the Pelham Public Library and Iberia Bank in Pelham.
X-ALT-DESC;FMTTYPE=text/html:The Taste of Pelham presented by the Pelham Library Guild:&nbsp\; Tuesday\, October 7\, 2014 6:00-8:00pm at the Pelham Civic Complex and Ice Arena.<br />\n<br />\nAll proceeds to benefit the Pelham Library Building Fund<br />\nTickets: $25.00 advance $30.00 door<br />\nAdvance tickets also available from any Pelham Library Guild Member\, at the Pelham Public Library and Iberia Bank in Pelham.
LOCATION:Pelham Civic Complex and Ice Arena
UID:e.145.5364
SEQUENCE:3
DTSTAMP:20260423T103952Z
URL:https://business.shelbychamber.org/events/details/the-taste-of-pelham-10-07-2014-5364
END:VEVENT

END:VCALENDAR
