BEGIN:VCALENDAR
VERSION:2.0
PRODID:-//ChamberMaster//Event Calendar 2.0//EN
METHOD:PUBLISH
X-PUBLISHED-TTL:P3D
REFRESH-INTERVAL:P3D
CALSCALE:GREGORIAN
BEGIN:VEVENT
DTSTART:20150212T160000Z
DTEND:20150212T170000Z
X-MICROSOFT-CDO-ALLDAYEVENT:FALSE
SUMMARY:The Watts Agency- Allstate- Pelham
DESCRIPTION:Please help us celebrate the new location for the The Watts Agency in Pelham.
X-ALT-DESC;FMTTYPE=text/html:Please help us celebrate the new location for the The Watts Agency in Pelham.
LOCATION:They are located at 600 Oak Mountain Commons Lane\, Pelham 35124
UID:e.145.7184
SEQUENCE:3
DTSTAMP:20260423T034650Z
URL:https://business.shelbychamber.org/events/details/the-watts-agency-allstate-pelham-02-12-2015-7184
END:VEVENT

END:VCALENDAR
