BEGIN:VCALENDAR
VERSION:2.0
PRODID:-//ChamberMaster//Event Calendar 2.0//EN
METHOD:PUBLISH
X-PUBLISHED-TTL:P3D
REFRESH-INTERVAL:P3D
CALSCALE:GREGORIAN
BEGIN:VEVENT
DTSTART:20140810T010000Z
DTEND:20140810T030000Z
X-MICROSOFT-CDO-ALLDAYEVENT:FALSE
SUMMARY:Three on a String
DESCRIPTION:Regional favorites to perform! If you've heard of them you know they are fantastic. If not\, you are in for a treat!
X-ALT-DESC;FMTTYPE=text/html:Regional favorites to perform! If you&#39\;ve heard of them you know they are fantastic. If not\, you are in for a treat!
LOCATION:104 Mildred St. Columbiana Al\, 35051
UID:e.145.5522
SEQUENCE:3
DTSTAMP:20260423T120042Z
URL:https://business.shelbychamber.org/events/details/three-on-a-string-08-09-2014-5522
END:VEVENT

END:VCALENDAR
