BEGIN:VCALENDAR
VERSION:2.0
PRODID:-//ChamberMaster//Event Calendar 2.0//EN
METHOD:PUBLISH
X-PUBLISHED-TTL:P3D
REFRESH-INTERVAL:P3D
CALSCALE:GREGORIAN
BEGIN:VEVENT
DTSTART:20151213T013000Z
DTEND:20151213T030000Z
X-MICROSOFT-CDO-ALLDAYEVENT:FALSE
SUMMARY:Three on a String
DESCRIPTION:Returning to the SCAC for the Holiday Season!  Three on a String always brings laughter and joy to the audience.  Jerry\, Bobby and Ryan are accomplished musicians whose love of performing radiants from the stage.\n\n\n\nSponsored in part by: The Alabama State Council on the Arts
X-ALT-DESC;FMTTYPE=text/html:Returning to the SCAC for the Holiday Season!&nbsp\; Three on a String always brings laughter and joy to the audience.&nbsp\; Jerry\, Bobby and Ryan are accomplished musicians whose love of performing radiants from the stage.<br />\n<br />\nSponsored in part by: The Alabama State Council on the Arts
LOCATION:Shelby County Arts Council Black Box Theatre 104 Mildred Street Columbiana\, AL 35051
UID:e.145.7926
SEQUENCE:3
DTSTAMP:20260422T122913Z
URL:https://business.shelbychamber.org/events/details/three-on-a-string-12-12-2015-7926
END:VEVENT

END:VCALENDAR
