BEGIN:VCALENDAR
VERSION:2.0
PRODID:-//ChamberMaster//Event Calendar 2.0//EN
METHOD:PUBLISH
X-PUBLISHED-TTL:P3D
REFRESH-INTERVAL:P3D
CALSCALE:GREGORIAN
BEGIN:VEVENT
DTSTART:20161211T193000Z
DTEND:20161211T220000Z
X-MICROSOFT-CDO-ALLDAYEVENT:FALSE
SUMMARY:Three On a String in concert!
DESCRIPTION:Local favorites Three on a String are back in the Black Box Theater! Join us for a toe-tapping afternoon of music and laughs. This show has something for everyone!
X-ALT-DESC;FMTTYPE=text/html:Local favorites Three on a String are back in the Black Box Theater! Join us for a toe-tapping afternoon of music and laughs. This show has something for everyone!
LOCATION:Shelby County Arts Council 104 Mildred Street Columbiana\, AL 35051
UID:e.145.9809
SEQUENCE:3
DTSTAMP:20260421T131818Z
URL:https://business.shelbychamber.org/events/details/three-on-a-string-in-concert-9809
END:VEVENT

END:VCALENDAR
