BEGIN:VCALENDAR
VERSION:2.0
PRODID:-//ChamberMaster//Event Calendar 2.0//EN
METHOD:PUBLISH
X-PUBLISHED-TTL:P3D
REFRESH-INTERVAL:P3D
CALSCALE:GREGORIAN
BEGIN:VEVENT
DTSTART:20130321T150000Z
DTEND:20130321T160000Z
X-MICROSOFT-CDO-ALLDAYEVENT:FALSE
SUMMARY:Tiny Treasures
DESCRIPTION:Let's get DIRTY! Come dig in the dirt and turn over rocks to see the tiny creatures of the world. Meet at the Campground Pavilion. Bring diggin' tools (no huge shovels).
X-ALT-DESC;FMTTYPE=text/html:Let&rsquo\;s get DIRTY! Come dig in the dirt and turn over rocks to see the tiny creatures of the world. Meet at the Campground Pavilion. Bring diggin&rsquo\; tools (no huge shovels).
LOCATION:Oak Mountain State Park - Campground Pavilion
UID:e.145.4516
SEQUENCE:3
DTSTAMP:20260424T153144Z
URL:https://business.shelbychamber.org/events/details/tiny-treasures-03-21-2013-4516
END:VEVENT

END:VCALENDAR
