BEGIN:VCALENDAR
VERSION:2.0
PRODID:-//ChamberMaster//Event Calendar 2.0//EN
METHOD:PUBLISH
X-PUBLISHED-TTL:P3D
REFRESH-INTERVAL:P3D
CALSCALE:GREGORIAN
BEGIN:VEVENT
DTSTART:20151207T163000Z
DTEND:20151207T170000Z
X-MICROSOFT-CDO-ALLDAYEVENT:FALSE
SUMMARY:Toddler Tales @ 10:30
DESCRIPTION:Stories\, songs\, fingerplays and crafts make up a lively 30 minute program designed especially for short attention spans. Registration will begin one week prior to each storytime. Ages 19-36 months. Registration Required.
X-ALT-DESC;FMTTYPE=text/html:Stories\, songs\, fingerplays and crafts make up a lively 30 minute program designed especially for short attention spans. Registration will begin one week prior to each storytime. <u>Ages 19-36 months</u>. <u>Registration Required</u>.&nbsp\;
LOCATION:Meeting Room
UID:e.145.7982
SEQUENCE:3
DTSTAMP:20260422T140544Z
URL:https://business.shelbychamber.org/events/details/toddler-tales-10-30-12-07-2015-7982
END:VEVENT

END:VCALENDAR
