BEGIN:VCALENDAR
VERSION:2.0
PRODID:-//ChamberMaster//Event Calendar 2.0//EN
METHOD:PUBLISH
X-PUBLISHED-TTL:P3D
REFRESH-INTERVAL:P3D
CALSCALE:GREGORIAN
BEGIN:VEVENT
DTSTART:20160104T153000Z
DTEND:20160104T160000Z
X-MICROSOFT-CDO-ALLDAYEVENT:FALSE
SUMMARY:Toddler Tales @ 9:30
DESCRIPTION:Stories\, songs\, fingerplays and crafts make up a lively 30 minute program designed especially for short attention spans. Registration will begin one week prior to each storytime. Ages 19-36 months. Registration Required.
X-ALT-DESC;FMTTYPE=text/html:Stories\, songs\, fingerplays and crafts make up a lively 30 minute program designed especially for short attention spans. Registration will begin one week prior to each storytime. <u>Ages 19-36 months</u>. <u>Registration Required</u>.&nbsp\;
LOCATION:5521 Cahaba Valley Road\, Birmingham AL 35242
UID:e.145.8228
SEQUENCE:3
DTSTAMP:20260422T110810Z
URL:https://business.shelbychamber.org/events/details/toddler-tales-9-30-01-04-2016-8228
END:VEVENT

END:VCALENDAR
