BEGIN:VCALENDAR
VERSION:2.0
PRODID:-//ChamberMaster//Event Calendar 2.0//EN
METHOD:PUBLISH
X-PUBLISHED-TTL:P3D
REFRESH-INTERVAL:P3D
CALSCALE:GREGORIAN
BEGIN:VEVENT
DTSTART:20110723T150000Z
DTEND:20110723T230000Z
X-MICROSOFT-CDO-ALLDAYEVENT:FALSE
SUMMARY:Tom Williams BMW - Get Behind the Wheel & Get Behind Team USA
DESCRIPTION:GET BEHIND THE WHEEL AND GET BEHIND TEAM USA at Tom Williams BMW.\n\n\n\nFood\, drinks\, and giveaways will be provided.\n\n\n\nRegister online and receive an incentive toward a new vehicle.*\n\nFor more information visit: www.bmwUSA.com/DriveforTeamUSA\n\n\n\nFor every person who test drives a vehicle\, Tom Williams will donate $10 to the United State Olympic Committee to fund team USA.\n\n\n\nMeet & greet with Olympic Bobsled Athlete\, Randy Jones.\n\n\n\nClick here for a printable flier with all the details about the event!
X-ALT-DESC;FMTTYPE=text/html:<strong>GET BEHIND THE WHEEL AND GET BEHIND TEAM USA at Tom Williams BMW.</strong><br />\n<br />\nFood\, drinks\, and giveaways will be provided.<br />\n<br />\nRegister online and receive an incentive toward a new vehicle.*<br />\nFor more information visit: www.bmwUSA.com/DriveforTeamUSA<br />\n<br />\nFor every person who test drives a vehicle\, Tom Williams will donate $10 to the United State Olympic Committee to fund team USA.<br />\n<br />\nMeet &amp\; greet with Olympic Bobsled Athlete\, Randy Jones.<br />\n<br />\n<span style="color: rgb(0\, 0\, 255)\;"><strong><a href="http://cloud.chambermaster.com/userfiles/UserFiles/chambers/145/File/Community Events/TWBP22333-KB.jpg">Click here for a printable flier with all the details about the event!</a></strong></span><strong></strong>
LOCATION:Tom Williams BMW 1000 Tom Williams Way Irondale AL 35210 (205) 252-9512
UID:e.145.3476
SEQUENCE:3
DTSTAMP:20260425T232813Z
URL:https://business.shelbychamber.org/events/details/tom-williams-bmw-get-behind-the-wheel-get-behind-team-usa-07-23-2011-3476
END:VEVENT

END:VCALENDAR
