BEGIN:VCALENDAR
VERSION:2.0
PRODID:-//ChamberMaster//Event Calendar 2.0//EN
METHOD:PUBLISH
X-PUBLISHED-TTL:P3D
REFRESH-INTERVAL:P3D
CALSCALE:GREGORIAN
BEGIN:VEVENT
DTSTART:20140802T190000Z
DTEND:20140802T210000Z
X-MICROSOFT-CDO-ALLDAYEVENT:FALSE
SUMMARY:Tornado Preparedness: Are You Ready?
DESCRIPTION:Do you think you are ready for tornado season? Don't take a chance when it comes to you and your family's safety! Come see special guest Jerry Tracey\, Alabama's 13 Chief Meteorologist at the Pelham Library on Saturday August 2nd at 2 pm. Mr. Tracey will give a review of the deadly April 27th tornado outbreak and just how unusual it was. He will discuss the ongoing effort to try to warn for every tornado\, while limiting the "cry-wolf" syndrome that causes people to sometimes ignore warnings. He will also discuss severe weather safety at home and on the road. Tornado season will be upon us\, don't miss a great opportunity to listen to Mr. Tracey and ask questions about how you can safeguard your family during extreme weather. This event is free\, but seating is limited. To reserve your seat\, please call the library at 620-6418. Weather radios will be given away by drawing after the program!
X-ALT-DESC;FMTTYPE=text/html:Do you think you are ready for tornado season? Don&#39\;t take a chance when it comes to you and your family&#39\;s safety! Come see special guest Jerry Tracey\, Alabama&#39\;s 13 Chief Meteorologist at the Pelham Library on Saturday August 2nd at 2 pm. Mr. Tracey will give a review of the deadly April 27th tornado outbreak and just how unusual it was. He will discuss the ongoing effort to try to warn for every tornado\, while limiting the &quot\;cry-wolf&quot\; syndrome that causes people to sometimes ignore warnings. He will also discuss severe weather safety at home and on the road. Tornado season will be upon us\, don&#39\;t miss a great opportunity to listen to Mr. Tracey and ask questions about how you can safeguard your family during extreme weather. This event is free\, but seating is limited. To reserve your seat\, please call the library at 620-6418. Weather radios will be given away by drawing after the program!
LOCATION:Pelham Public Library
UID:e.145.5798
SEQUENCE:3
DTSTAMP:20260423T120357Z
URL:https://business.shelbychamber.org/events/details/tornado-preparedness-are-you-ready-08-02-2014-5798
END:VEVENT

END:VCALENDAR
