BEGIN:VCALENDAR
VERSION:2.0
PRODID:-//ChamberMaster//Event Calendar 2.0//EN
METHOD:PUBLISH
X-PUBLISHED-TTL:P3D
REFRESH-INTERVAL:P3D
CALSCALE:GREGORIAN
BEGIN:VEVENT
DTSTART:20150613T110000Z
DTEND:20150613T220000Z
X-MICROSOFT-CDO-ALLDAYEVENT:FALSE
SUMMARY:Tour de Cure - American Diabetes Association
DESCRIPTION:Be part of the American Diabetes Association's movement to Stop Diabetes by riding in the annual Tour de Cure\, a series of fundraising cycling events held in 44 states nationwide.\n\n\n\nTour is a ride\, not a race\, with routes designed for everyone: occasional riders\, families and experienced cyclists. With five options ranging from 5 miles to 102 miles\, every route is supported with rest stops\, food to fuel the journey\, and fans to cheer on riders.\n\n\n\nThis year\, the Alabama Tour de Cure will be held on June 13\, 2015 at the University of Montevallo. The Tour de Cure raises funds to support research to prevent\, cure and manage diabetes\; to deliver diabetes programs and credible information about diabetes to individuals in communities across the country\; and to give voice to people facing discrimination because of diabetes.\n\n\n\nTo register or to find out more about Tour de Cure\, call the American Diabetes Association 205-870-5172 x3070 or visit us at www.diabetes.org/touralabama.\n\n\n\nJoin as a cyclist\, a day of event volunteer or join the committee to help plan - we need YOU! Red Riders. A Red Rider is someone living with diabetes who rides in the Tour de Cure. Red Riders know what it means to have diabetes and they want others to understand that diabetes is a serious disease that can't be ignored. Red Riders are joining the movement to Stop Diabetes by raising awareness of diabetes and participating in the Tour de Cure events across the country including Montevallo. If you have diabetes\, you are eligible to become a Red Rider. All you need to do is register at www.diabetes.org/touralabama
X-ALT-DESC;FMTTYPE=text/html:<br />\nBe part of the American Diabetes Association&#39\;s movement to Stop Diabetes by riding in the annual Tour de Cure\, a series of fundraising cycling events held in 44 states nationwide.<br />\n<br />\nTour is a ride\, not a race\, with routes designed for everyone: occasional riders\, families and experienced cyclists. With five options ranging from 5 miles to 102 miles\, every route is supported with rest stops\, food to fuel the journey\, and fans to cheer on riders.<br />\n<br />\nThis year\, the Alabama Tour de Cure will be held on June 13\, 2015 at the University of Montevallo. The Tour de Cure raises funds to support research to prevent\, cure and manage diabetes\; to deliver diabetes programs and credible information about diabetes to individuals in communities across the country\; and to give voice to people facing discrimination because of diabetes.<br />\n<br />\nTo register or to find out more about Tour de Cure\, call the American Diabetes Association 205-870-5172 x3070 or visit us at www.diabetes.org/touralabama.<br />\n<br />\nJoin as a cyclist\, a day of event volunteer or join the committee to help plan - we need YOU! Red Riders. A Red Rider is someone living with diabetes who rides in the Tour de Cure. Red Riders know what it means to have diabetes and they want others to understand that diabetes is a serious disease that can&#39\;t be ignored. Red Riders are joining the movement to Stop Diabetes by raising awareness of diabetes and participating in the Tour de Cure events across the country including Montevallo. If you have diabetes\, you are eligible to become a Red Rider. All you need to do is register at www.diabetes.org/touralabama
LOCATION:Start at University of Montevallo - Student Activities Center
UID:e.145.7625
SEQUENCE:3
DTSTAMP:20260422T213154Z
URL:https://business.shelbychamber.org/events/details/tour-de-cure-american-diabetes-association-06-13-2015-7625
END:VEVENT

END:VCALENDAR
