BEGIN:VCALENDAR
VERSION:2.0
PRODID:-//ChamberMaster//Event Calendar 2.0//EN
METHOD:PUBLISH
X-PUBLISHED-TTL:P3D
REFRESH-INTERVAL:P3D
CALSCALE:GREGORIAN
BEGIN:VEVENT
DTSTART:20141031T150000Z
DTEND:20141031T230000Z
X-MICROSOFT-CDO-ALLDAYEVENT:FALSE
SUMMARY:Trick-Or-Treat at North Shelby Library
DESCRIPTION:Stop by the library today to pick up some awesome treats! Costumes welcome.
X-ALT-DESC;FMTTYPE=text/html:Stop by the library today to pick up some awesome treats! Costumes welcome.
LOCATION:North Shelby Library 5521 Cahaba Valley Rd. B'ham\, AL 35242
UID:e.145.6243
SEQUENCE:3
DTSTAMP:20260423T103951Z
URL:https://business.shelbychamber.org/events/details/trick-or-treat-at-north-shelby-library-10-31-2014-6243
END:VEVENT

END:VCALENDAR
