BEGIN:VCALENDAR
VERSION:2.0
PRODID:-//ChamberMaster//Event Calendar 2.0//EN
METHOD:PUBLISH
X-PUBLISHED-TTL:P3D
REFRESH-INTERVAL:P3D
CALSCALE:GREGORIAN
BEGIN:VEVENT
DTSTART:20161031T150000Z
DTEND:20161101T010000Z
X-MICROSOFT-CDO-ALLDAYEVENT:FALSE
SUMMARY:Trick or Treat at the Library
DESCRIPTION:Stop by each department in the library for treats! Costumes welcome!
X-ALT-DESC;FMTTYPE=text/html:<span style="font-family:calibri light\,sans-serif"><span style="font-size:12.0pt">Stop by each department in the library for treats! Costumes welcome!</span></span>
LOCATION:North Shelby Library 5521 Cahaba Valley Road Birmingham\, AL 35242
UID:e.145.9694
SEQUENCE:3
DTSTAMP:20260421T165135Z
URL:https://business.shelbychamber.org/events/details/trick-or-treat-at-the-library-10-31-2016-9694
END:VEVENT

END:VCALENDAR
