BEGIN:VCALENDAR
VERSION:2.0
PRODID:-//ChamberMaster//Event Calendar 2.0//EN
METHOD:PUBLISH
X-PUBLISHED-TTL:P3D
REFRESH-INTERVAL:P3D
CALSCALE:GREGORIAN
BEGIN:VEVENT
DTSTART:20130913T170000Z
DTEND:20130913T180000Z
X-MICROSOFT-CDO-ALLDAYEVENT:FALSE
SUMMARY:Tripp Bowden: Book Signing and Free Speaking Event
DESCRIPTION:Tripp Bowden\, author of Freddie and Me: Life Lessons from Freddie Bennett\, Augusta National's Legendary Caddy Master\, will speak on Friday\, September 13\, 2013\, noon\, at Timberline Golf Club.  This free event is being coordinated by the Shelby County Arts Council.   \n\n	The public is invited to hear Tripp speak about his life\, the influence of Freddie Bennett\, and the Augusta National Golf Course from behind the ropes.  Following the speaking engagement\, Mr. Bowden will be available for book signings\, questions and photographs.\n\n	\n\n	Questions concerning Mr. Bowden's visit should be directed to the Shelby County Arts Council.\n\n	205-669-0044 or info@shelbycountyartscouncil.com.   \n\n	\n\n	Timberline Golf Club is located 300 Timberline Trail Calera\, AL 35040.  \n\n	\n\n	The Shelby County Arts Council is a fully functioning 501-C-3 Not-for-profit Organization. Our mission is to support\, nurture and grow the Arts and Cultural Opportunities in Shelby County\, Alabama.
X-ALT-DESC;FMTTYPE=text/html:<p>\n	<span style="font-size: 11pt\;"><font color="#000000"><font face="Times New Roman">Tripp Bowden\, author of <u>Freddie and Me: Life Lessons from Freddie Bennett\, Augusta National&#39\;s Legendary Caddy Master</u>\, will speak on Friday\, September 13\, 2013\, noon\,&nbsp\;at Timberline Golf Club.&nbsp\;&nbsp\;This free event is being coordinated by the Shelby County Arts Council.<span style="mso-spacerun: yes\;">&nbsp\;&nbsp\;</span></font></font></span><span style="font-size: 11pt\;"><font color="#000000">&nbsp\;</font></span></p>\n<p>\n	<span style="font-size: 11pt\;"><font color="#000000"><font face="Times New Roman">The public is invited to hear Tripp speak about his life\, the influence of Freddie Bennett\, and the Augusta National Golf Course from behind the ropes. &nbsp\;Following the speaking engagement\, Mr. Bowden will be available for book signings\, questions and photographs.<br />\n	<br />\n	<span style="font-size: 11pt\;">Questions concerning Mr. Bowden&rsquo\;s visit should be directed to the Shelby County Arts Council.<br />\n	205-669-0044 or </span><a href="mailto:info@shelbycountyartscouncil.com"><span style="font-size: 11pt\;"><font color="#0000ff">info@shelbycountyartscouncil.com</font></span></a><span class="MsoHyperlink"><span style="font-size: 11pt\;"><u><font color="#0000ff">.<span style="mso-spacerun: yes\;">&nbsp\; </span></font></u></span></span><span style="font-size: 11pt\;"><span style="mso-spacerun: yes\;">&nbsp\;</span><br />\n	<br />\n	Timberline Golf Club is located 300 Timberline Trail Calera\, AL 35040.<span style="mso-spacerun: yes\;">&nbsp\; </span><br />\n	<br />\n	The Shelby County Arts Council is a fully functioning 501-C-3 Not-for-profit Organization. Our mission is to support\, nurture and grow the Arts and Cultural Opportunities in Shelby County\, Alabama.<span style="mso-spacerun: yes\;">&nbsp\; </span></span></font></font></span></p>\n<p>\n	&nbsp\;</p>\n<p>\n	<span style="font-size: 11pt\;"><font color="#000000">&nbsp\;</font></span></p>\n<p>\n	<span style="font-size: 11pt\;">&nbsp\;</span></p>\n<p>\n	&nbsp\;</p>\n
LOCATION:Timberline Golf Club\, 300 Timberline Trail Calera\, AL 35040
UID:e.145.4689
SEQUENCE:3
DTSTAMP:20260424T051531Z
URL:https://business.shelbychamber.org/events/details/tripp-bowden-book-signing-and-free-speaking-event-09-13-2013-4689
END:VEVENT

END:VCALENDAR
