BEGIN:VCALENDAR
VERSION:2.0
PRODID:-//ChamberMaster//Event Calendar 2.0//EN
METHOD:PUBLISH
X-PUBLISHED-TTL:P3D
REFRESH-INTERVAL:P3D
CALSCALE:GREGORIAN
BEGIN:VEVENT
DTSTART;VALUE=DATE:20140621
DTEND;VALUE=DATE:20140623
TRANSP:TRANSPARENT
X-MICROSOFT-CDO-ALLDAYEVENT:TRUE
SUMMARY:Triumph SuperBike Classic
DESCRIPTION:Come on out to the beautiful Barber Motorsports Park to witness 7 races over an adrenaline-filled 2-day weekend as the fastest riders in the world compete on the famed 2.38 mile track! This is an event for the whole family and children 15 & under are admitted FREE with a ticketed adult. The weekend will include fan walks\, autograph sessions\, motocross stunt shows and more. Don't miss out and purchase your tickets today instantly!
X-ALT-DESC;FMTTYPE=text/html:Come on out to the beautiful Barber Motorsports Park to witness 7 races over an adrenaline-filled 2-day weekend as the fastest riders in the world compete on the famed 2.38 mile track! This is an event for the whole family and children 15 &amp\; under are admitted FREE with a ticketed adult. The weekend will include fan walks\, autograph sessions\, motocross stunt shows and more. Don&#39\;t miss out and purchase your tickets today instantly!
LOCATION:Barber Motorsports Park
UID:e.145.5531
SEQUENCE:3
DTSTAMP:20260423T151424Z
URL:https://business.shelbychamber.org/events/details/triumph-superbike-classic-06-21-2014-5531
END:VEVENT

END:VCALENDAR
