BEGIN:VCALENDAR
VERSION:2.0
PRODID:-//ChamberMaster//Event Calendar 2.0//EN
METHOD:PUBLISH
X-PUBLISHED-TTL:P3D
REFRESH-INTERVAL:P3D
CALSCALE:GREGORIAN
BEGIN:VEVENT
DTSTART;VALUE=DATE:20130621
DTEND;VALUE=DATE:20130624
TRANSP:TRANSPARENT
X-MICROSOFT-CDO-ALLDAYEVENT:TRUE
SUMMARY:Triumph Superbike Classic presented by America's First Federal Credit Union
DESCRIPTION:Come on out to Barber Motorsports Park to witness the thrills\, twists and turns as some of the world's fastest riders compete on the famed 2.38 mile road course. Tickets start as low as $15 and children 15 & under are admitted free with a ticketed adult!
X-ALT-DESC;FMTTYPE=text/html:<span style="font-family:arial\;"><span style="color: rgb(0\, 0\, 0)\;">Come on out to Barber Motorsports Park to witness the thrills\, twists and turns as some of the world&#39\;s fastest riders compete on the famed 2.38 mile road course. Tickets start as low as $15 and children 15 &amp\; under are admitted free with a ticketed adult!&nbsp\;</span></span><br />\n
LOCATION:Barber Motorsports Park
UID:e.145.4650
SEQUENCE:3
DTSTAMP:20260424T103109Z
URL:https://business.shelbychamber.org/events/details/triumph-superbike-classic-presented-by-america-s-first-federal-credit-union-06-21-2013-4650
END:VEVENT

END:VCALENDAR
